BEGIN:VCALENDAR
VERSION:2.0
PRODID:-//213.154.231.152//NONSGML kigkonsult.se iCalcreator 2.26.9//
CALSCALE:GREGORIAN
METHOD:PUBLISH
X-FROM-URL:https://www.fotoclubwesterkwartier.nl
X-WR-TIMEZONE:Europe/Amsterdam
BEGIN:VTIMEZONE
TZID:Europe/Amsterdam
X-LIC-LOCATION:Europe/Amsterdam
BEGIN:STANDARD
DTSTART:20251026T030000
TZOFFSETFROM:+0200
TZOFFSETTO:+0100
RDATE:20261025T030000
TZNAME:CET
END:STANDARD
BEGIN:DAYLIGHT
DTSTART:20260329T020000
TZOFFSETFROM:+0100
TZOFFSETTO:+0200
RDATE:20270328T020000
TZNAME:CEST
END:DAYLIGHT
END:VTIMEZONE
BEGIN:VEVENT
UID:ai1ec-11232@www.fotoclubwesterkwartier.nl
DTSTAMP:20260421T122123Z
CATEGORIES:
CONTACT:
DESCRIPTION:<p>Zomeruitje: Avifauna</p>
DTSTART;VALUE=DATE:20260718
DTEND;VALUE=DATE:20260719
SEQUENCE:0
SUMMARY:Zomeruitje:  Avifauna
URL:https://www.fotoclubwesterkwartier.nl/activiteit/zomeruitje-avifauna/
X-COST-TYPE:free
END:VEVENT
BEGIN:VEVENT
UID:ai1ec-10852@www.fotoclubwesterkwartier.nl
DTSTAMP:20260421T122123Z
CATEGORIES:
CONTACT:
DESCRIPTION:
DTSTART;TZID=Europe/Amsterdam:20250930T193000
DTEND;TZID=Europe/Amsterdam:20250930T223000
SEQUENCE:0
SUMMARY:Spreker Ronald Rozema
URL:https://www.fotoclubwesterkwartier.nl/activiteit/spreker-ronald-rozema-
 2/
X-COST-TYPE:free
END:VEVENT
BEGIN:VEVENT
UID:ai1ec-10854@www.fotoclubwesterkwartier.nl
DTSTAMP:20260421T122123Z
CATEGORIES:
CONTACT:
DESCRIPTION:
DTSTART;TZID=Europe/Amsterdam:20251014T193000
DTEND;TZID=Europe/Amsterdam:20251014T223000
SEQUENCE:0
SUMMARY:FVDM Glass
URL:https://www.fotoclubwesterkwartier.nl/activiteit/fvdm-glass-2/
X-COST-TYPE:free
END:VEVENT
BEGIN:VEVENT
UID:ai1ec-10856@www.fotoclubwesterkwartier.nl
DTSTAMP:20260421T122123Z
CATEGORIES:
CONTACT:
DESCRIPTION:<p>uitleg over verschillende software programma’s zoals\, darkt
 able\, lightroom\, photoshop en luminar</p>
DTSTART;TZID=Europe/Amsterdam:20251028T193000
DTEND;TZID=Europe/Amsterdam:20251028T223000
SEQUENCE:0
SUMMARY:Clubavond software
URL:https://www.fotoclubwesterkwartier.nl/activiteit/clubavond/
X-COST-TYPE:free
END:VEVENT
BEGIN:VEVENT
UID:ai1ec-10858@www.fotoclubwesterkwartier.nl
DTSTAMP:20260421T122123Z
CATEGORIES:
CONTACT:
DESCRIPTION:
DTSTART;TZID=Europe/Amsterdam:20251111T193000
DTEND;TZID=Europe/Amsterdam:20251111T223000
SEQUENCE:0
SUMMARY:FVDM Natuur
URL:https://www.fotoclubwesterkwartier.nl/activiteit/fvdm-natuur-2/
X-COST-TYPE:free
END:VEVENT
BEGIN:VEVENT
UID:ai1ec-10861@www.fotoclubwesterkwartier.nl
DTSTAMP:20260421T122123Z
CATEGORIES:
CONTACT:
DESCRIPTION:
DTSTART;TZID=Europe/Amsterdam:20251125T193000
DTEND;TZID=Europe/Amsterdam:20251125T223000
SEQUENCE:0
SUMMARY:Doe avond Zeepbellen en Olie op water
URL:https://www.fotoclubwesterkwartier.nl/activiteit/doe-avond-zeepbellen-e
 n-olie-op-water-2/
X-COST-TYPE:free
END:VEVENT
BEGIN:VEVENT
UID:ai1ec-10902@www.fotoclubwesterkwartier.nl
DTSTAMP:20260421T122123Z
CATEGORIES:
CONTACT:
DESCRIPTION:
DTSTART;TZID=Europe/Amsterdam:20251209T193000
DTEND;TZID=Europe/Amsterdam:20251209T223000
SEQUENCE:0
SUMMARY:FVDM Lange sluitertijd
URL:https://www.fotoclubwesterkwartier.nl/activiteit/fvdm-lange-sluitertijd
 -2/
X-COST-TYPE:free
END:VEVENT
BEGIN:VEVENT
UID:ai1ec-10539@www.fotoclubwesterkwartier.nl
DTSTAMP:20260421T122123Z
CATEGORIES:
CONTACT:
DESCRIPTION:
DTSTART;TZID=Europe/Amsterdam:20251218T193000
DTEND;TZID=Europe/Amsterdam:20251218T223000
SEQUENCE:0
SUMMARY:Stads wandeling Groningen
URL:https://www.fotoclubwesterkwartier.nl/activiteit/stads-wandeling-gronin
 gen/
X-COST-TYPE:free
END:VEVENT
BEGIN:VEVENT
UID:ai1ec-11137@www.fotoclubwesterkwartier.nl
DTSTAMP:20260421T122123Z
CATEGORIES:
CONTACT:
DESCRIPTION:
DTSTART;TZID=Europe/Amsterdam:20260120T193000
DTEND;TZID=Europe/Amsterdam:20260120T214500
SEQUENCE:0
SUMMARY:Clubavond: Jaaropdracht
URL:https://www.fotoclubwesterkwartier.nl/activiteit/clubavond-jaaropdracht
 /
X-COST-TYPE:free
END:VEVENT
BEGIN:VEVENT
UID:ai1ec-11139@www.fotoclubwesterkwartier.nl
DTSTAMP:20260421T122123Z
CATEGORIES:
CONTACT:
DESCRIPTION:<p>Spreker Frank Doorhof. Voor niet leden is de Entree €5\,-</p
 >
DTSTART;TZID=Europe/Amsterdam:20260203T193000
DTEND;TZID=Europe/Amsterdam:20260203T214500
SEQUENCE:0
SUMMARY:Clubavond: Spreker Frank Doorhof
URL:https://www.fotoclubwesterkwartier.nl/activiteit/spreker-frank-doorhof/
X-COST-TYPE:free
END:VEVENT
BEGIN:VEVENT
UID:ai1ec-11142@www.fotoclubwesterkwartier.nl
DTSTAMP:20260421T122123Z
CATEGORIES:
CONTACT:
DESCRIPTION:<p>Voor foto’s van de maand mogen er twee foto’s ingeleverd wor
 den. één van de opkomende zon en één van de ondergaande zon.</p>
DTSTART;TZID=Europe/Amsterdam:20260217T193000
DTEND;TZID=Europe/Amsterdam:20260217T214500
SEQUENCE:0
SUMMARY:Clubavond: Zon’s op en ondergang!
URL:https://www.fotoclubwesterkwartier.nl/activiteit/zons-op-en-ondergang/
X-COST-TYPE:free
END:VEVENT
BEGIN:VEVENT
UID:ai1ec-11221@www.fotoclubwesterkwartier.nl
DTSTAMP:20260421T122123Z
CATEGORIES:
CONTACT:
DESCRIPTION:<p>Clubavond: FVDM lente</p>
DTSTART;TZID=Europe/Amsterdam:20260301T093800
DTEND;TZID=Europe/Amsterdam:20260301T103800
SEQUENCE:0
SUMMARY:Clubavond: FVDM lente
URL:https://www.fotoclubwesterkwartier.nl/activiteit/fvdm-lente/
X-COST-TYPE:free
END:VEVENT
BEGIN:VEVENT
UID:ai1ec-11209@www.fotoclubwesterkwartier.nl
DTSTAMP:20260421T122123Z
CATEGORIES:
CONTACT:
DESCRIPTION:<p>uitleg lightpainting en FVDM vrij onderwerp met bewerking</p
 >
DTSTART;TZID=Europe/Amsterdam:20260303T193000
DTEND;TZID=Europe/Amsterdam:20260303T213000
SEQUENCE:0
SUMMARY:Clubavond: uitleg lightpainting n FVDM vrij onderwerp met bewerking
URL:https://www.fotoclubwesterkwartier.nl/activiteit/uitleg-lightpainting-n
 -fvdm-vrij-onderwerp-met-bewerking/
X-COST-TYPE:free
END:VEVENT
BEGIN:VEVENT
UID:ai1ec-11213@www.fotoclubwesterkwartier.nl
DTSTAMP:20260421T122123Z
CATEGORIES:
CONTACT:
DESCRIPTION:<p>Clubavond: Algemene leden vergadering en FVDM symmetrie</p>
DTSTART;TZID=Europe/Amsterdam:20260317T193000
DTEND;TZID=Europe/Amsterdam:20260317T213000
SEQUENCE:0
SUMMARY:Clubavond: Algemene leden vergadering en FVDM symmetrie
URL:https://www.fotoclubwesterkwartier.nl/activiteit/algemene-leden-vergade
 ring-en-fvdm-symmetrie/
X-COST-TYPE:free
END:VEVENT
BEGIN:VEVENT
UID:ai1ec-11215@www.fotoclubwesterkwartier.nl
DTSTAMP:20260421T122123Z
CATEGORIES:
CONTACT:
DESCRIPTION:<p>Clubavond: foto afdruk bespreken (beoordelen op afdruk)</p>
DTSTART;TZID=Europe/Amsterdam:20260331T193000
DTEND;TZID=Europe/Amsterdam:20260331T213000
SEQUENCE:0
SUMMARY:Clubavond: foto afdruk bespreken (beoordelen op afdruk)
URL:https://www.fotoclubwesterkwartier.nl/activiteit/foto-afdruk-bespreken-
 beoordelen-op-afdruk/
X-COST-TYPE:free
END:VEVENT
BEGIN:VEVENT
UID:ai1ec-11217@www.fotoclubwesterkwartier.nl
DTSTAMP:20260421T122123Z
CATEGORIES:
CONTACT:
DESCRIPTION:<p>Doe-avond Workshop Flitshuis</p>
DTSTART;TZID=Europe/Amsterdam:20260414T193000
DTEND;TZID=Europe/Amsterdam:20260414T213000
SEQUENCE:0
SUMMARY:Clubavond: Doe-avond Workshop Flitshuis
URL:https://www.fotoclubwesterkwartier.nl/activiteit/doe-avond-workshop-fli
 tshuis/
X-COST-TYPE:free
END:VEVENT
BEGIN:VEVENT
UID:ai1ec-11219@www.fotoclubwesterkwartier.nl
DTSTAMP:20260421T122123Z
CATEGORIES:
CONTACT:
DESCRIPTION:<p>buitenactiviteit Lightpainting</p>
DTSTART;TZID=Europe/Amsterdam:20260428T193000
DTEND;TZID=Europe/Amsterdam:20260428T213000
SEQUENCE:0
SUMMARY:Clubavond: buitenactiviteit Lightpainting
URL:https://www.fotoclubwesterkwartier.nl/activiteit/buitenactiviteit-light
 painting/
X-COST-TYPE:free
END:VEVENT
BEGIN:VEVENT
UID:ai1ec-11224@www.fotoclubwesterkwartier.nl
DTSTAMP:20260421T122123Z
CATEGORIES:
CONTACT:
DESCRIPTION:<p>Clubavond: FVDM Lente</p>
DTSTART;TZID=Europe/Amsterdam:20260512T193000
DTEND;TZID=Europe/Amsterdam:20260512T213000
SEQUENCE:0
SUMMARY:Clubavond: FVDM Lente
URL:https://www.fotoclubwesterkwartier.nl/activiteit/fvdm-lente-2/
X-COST-TYPE:free
END:VEVENT
BEGIN:VEVENT
UID:ai1ec-11226@www.fotoclubwesterkwartier.nl
DTSTAMP:20260421T122123Z
CATEGORIES:
CONTACT:
DESCRIPTION:<p>Clubavond: Spreker Frank Doorhof</p>
DTSTART;TZID=Europe/Amsterdam:20260526T193000
DTEND;TZID=Europe/Amsterdam:20260526T213000
SEQUENCE:0
SUMMARY:Clubavond: Spreker Frank Doorhof
URL:https://www.fotoclubwesterkwartier.nl/activiteit/spreker-frank-doorhof-
 2/
X-COST-TYPE:free
END:VEVENT
BEGIN:VEVENT
UID:ai1ec-11228@www.fotoclubwesterkwartier.nl
DTSTAMP:20260421T122123Z
CATEGORIES:
CONTACT:
DESCRIPTION:<p>Clubavond: FVDM flitsen</p>
DTSTART;TZID=Europe/Amsterdam:20260609T193000
DTEND;TZID=Europe/Amsterdam:20260609T213000
SEQUENCE:0
SUMMARY:Clubavond: FVDM flitsen
URL:https://www.fotoclubwesterkwartier.nl/activiteit/fvdm-flitsen/
X-COST-TYPE:free
END:VEVENT
BEGIN:VEVENT
UID:ai1ec-11230@www.fotoclubwesterkwartier.nl
DTSTAMP:20260421T122123Z
CATEGORIES:
CONTACT:
DESCRIPTION:<p>Clubavond: BBQ en Foto’s eigen stijl leden</p>
DTSTART;TZID=Europe/Amsterdam:20260630T193000
DTEND;TZID=Europe/Amsterdam:20260630T213000
SEQUENCE:0
SUMMARY:Clubavond:  BBQ en Foto’s eigen stijl leden
URL:https://www.fotoclubwesterkwartier.nl/activiteit/fotos-eigen-stijl-lede
 n/
X-COST-TYPE:free
END:VEVENT
END:VCALENDAR
